BEGIN:VCALENDAR
VERSION:2.0
PRODID:-//UCLA Center for Neurobehavioral Genetics - ECPv6.6.2//NONSGML v1.0//EN
CALSCALE:GREGORIAN
METHOD:PUBLISH
X-ORIGINAL-URL:https://neurogen.semel.ucla.edu
X-WR-CALDESC:Events for UCLA Center for Neurobehavioral Genetics
REFRESH-INTERVAL;VALUE=DURATION:PT1H
X-Robots-Tag:noindex
X-PUBLISHED-TTL:PT1H
BEGIN:VTIMEZONE
TZID:UTC
BEGIN:STANDARD
TZOFFSETFROM:+0000
TZOFFSETTO:+0000
TZNAME:UTC
DTSTART:20250101T000000
END:STANDARD
END:VTIMEZONE
BEGIN:VEVENT
DTSTART;TZID=UTC:20251016T120000
DTEND;TZID=UTC:20251016T130000
DTSTAMP:20260422T221222
CREATED:20250922T073810Z
LAST-MODIFIED:20250922T073810Z
UID:6471-1760616000-1760619600@neurogen.semel.ucla.edu
SUMMARY:ICNG Seminar: "Developmental Emergence of Personality"
DESCRIPTION:Bassem Hassan\, PhD\nScientific Director & Deputy Executive Director\,\nInstitut du Cerveau – Paris Brain Institute
URL:https://neurogen.semel.ucla.edu/event/icng-seminar-developmental-emergence-of-personality/
LOCATION:Gonda (Goldschmeid) Center\, Room 1357\, 695 Charles E Young Dr\, Los Angeles\, CA\, 90095\, United States
CATEGORIES:ICNG Seminar
ATTACH;FMTTYPE=application/pdf:https://neurogen.semel.ucla.edu/wp-content/uploads/2025/09/2025-10-16_Hassan-Bassem_ICNG-Seminar_Flyer_-2.pdf
ORGANIZER;CN="Center for Neurobehavioral Genetics":MAILTO:CNGT32@mednet.ucla.edu
END:VEVENT
END:VCALENDAR