BEGIN:VCALENDAR
VERSION:2.0
PRODID:-//UCLA Center for Neurobehavioral Genetics - ECPv6.6.2//NONSGML v1.0//EN
CALSCALE:GREGORIAN
METHOD:PUBLISH
X-ORIGINAL-URL:https://neurogen.semel.ucla.edu
X-WR-CALDESC:Events for UCLA Center for Neurobehavioral Genetics
REFRESH-INTERVAL;VALUE=DURATION:PT1H
X-Robots-Tag:noindex
X-PUBLISHED-TTL:PT1H
BEGIN:VTIMEZONE
TZID:UTC
BEGIN:STANDARD
TZOFFSETFROM:+0000
TZOFFSETTO:+0000
TZNAME:UTC
DTSTART:20250101T000000
END:STANDARD
END:VTIMEZONE
BEGIN:VEVENT
DTSTART;TZID=UTC:20250313T120000
DTEND;TZID=UTC:20250313T130000
DTSTAMP:20260423T093045
CREATED:20250310T192526Z
LAST-MODIFIED:20250310T192526Z
UID:6308-1741867200-1741870800@neurogen.semel.ucla.edu
SUMMARY:ICNG Seminar: "Developing Insights into Schizophrenia and other Neurodevelopmental Disorders"
DESCRIPTION:Rebecca Birnbaum\, MD\nAssistant Professor\nGenetics and Genomic Sciences\nMount Sinai
URL:https://neurogen.semel.ucla.edu/event/icng-seminar-developing-insights-into-schizophrenia-and-other-neurodevelopmental-disorders/
LOCATION:Gonda (Goldschmeid) Center\, Room 1357\, 695 Charles E Young Dr\, Los Angeles\, CA\, 90095\, United States
CATEGORIES:ICNG Seminar
ATTACH;FMTTYPE=application/pdf:https://neurogen.semel.ucla.edu/wp-content/uploads/2025/03/ICNG-Seminar_Rebecca-Birnbaum-03-13-2025-1-1.pdf
ORGANIZER;CN="Center for Neurobehavioral Genetics":MAILTO:CNGT32@mednet.ucla.edu
END:VEVENT
END:VCALENDAR