BEGIN:VCALENDAR
VERSION:2.0
PRODID:-//UCLA Center for Neurobehavioral Genetics - ECPv6.6.2//NONSGML v1.0//EN
CALSCALE:GREGORIAN
METHOD:PUBLISH
X-WR-CALNAME:UCLA Center for Neurobehavioral Genetics
X-ORIGINAL-URL:https://neurogen.semel.ucla.edu
X-WR-CALDESC:Events for UCLA Center for Neurobehavioral Genetics
REFRESH-INTERVAL;VALUE=DURATION:PT1H
X-Robots-Tag:noindex
X-PUBLISHED-TTL:PT1H
BEGIN:VTIMEZONE
TZID:UTC
BEGIN:STANDARD
TZOFFSETFROM:+0000
TZOFFSETTO:+0000
TZNAME:UTC
DTSTART:20240101T000000
END:STANDARD
END:VTIMEZONE
BEGIN:VEVENT
DTSTART;TZID=UTC:20241107T120000
DTEND;TZID=UTC:20241107T130000
DTSTAMP:20260425T060803
CREATED:20241223T200218Z
LAST-MODIFIED:20241223T223151Z
UID:6256-1730980800-1730984400@neurogen.semel.ucla.edu
SUMMARY:ICNG Seminar: "Sex differences in the common genetic architecture of the human brain anatomy"
DESCRIPTION:Rebecca Shafee\, PhD\nResearch Fellow\nSection on Developmental Neurogenomics\nNational Institute of Mental Health
URL:https://neurogen.semel.ucla.edu/event/icng-seminar-sex-differences-in-the-common-genetic-architecture-of-the-human-brain-anatomy/
LOCATION:Gonda (Goldschmeid) Center\, Room 1357\, 695 Charles E Young Dr\, Los Angeles\, CA\, 90095\, United States
CATEGORIES:ICNG Seminar
ATTACH;FMTTYPE=image/png:https://neurogen.semel.ucla.edu/wp-content/uploads/2024/12/ICNG-Seminar_Flyer_Shafee-11072024.png
ORGANIZER;CN="Center for Neurobehavioral Genetics":MAILTO:CNGT32@mednet.ucla.edu
END:VEVENT
END:VCALENDAR