BEGIN:VCALENDAR
VERSION:2.0
PRODID:-//UCLA Center for Neurobehavioral Genetics - ECPv6.6.2//NONSGML v1.0//EN
CALSCALE:GREGORIAN
METHOD:PUBLISH
X-ORIGINAL-URL:https://neurogen.semel.ucla.edu
X-WR-CALDESC:Events for UCLA Center for Neurobehavioral Genetics
REFRESH-INTERVAL;VALUE=DURATION:PT1H
X-Robots-Tag:noindex
X-PUBLISHED-TTL:PT1H
BEGIN:VTIMEZONE
TZID:UTC
BEGIN:STANDARD
TZOFFSETFROM:+0000
TZOFFSETTO:+0000
TZNAME:UTC
DTSTART:20260101T000000
END:STANDARD
END:VTIMEZONE
BEGIN:VEVENT
DTSTART;TZID=UTC:20260122T120000
DTEND;TZID=UTC:20260122T130000
DTSTAMP:20260422T160021
CREATED:20251215T073501Z
LAST-MODIFIED:20251215T073501Z
UID:6526-1769083200-1769086800@neurogen.semel.ucla.edu
SUMMARY:ICNG Seminar: "Schizophrenia Risk Convergence in Gene Co-Expression Networks"
DESCRIPTION:Giulio Pergola\, PhD\nInvestigator\, Lieber Institute for Brain Development\, Baltimore\, MD\nAssociate Professor of Psychiatry and Behavioral Sciences\, Johns Hopkins University School of Medicine\, Baltimore\, MD\nAssociate Professor of Genetic Medicine\, Johns Hopkins University School of Medicine\, Baltimore\, MD\nProfessor of Neuropsychology and Cognitive Neuroscience\, Department of Translational Biomedicine and Neuroscience\, University of Bari Aldo Moro\, Bari\, Italy
URL:https://neurogen.semel.ucla.edu/event/icng-seminar-schizophrenia-risk-convergence-in-gene-co-expression-networks/
LOCATION:Gonda (Goldschmeid) Center\, Room 1357\, 695 Charles E Young Dr\, Los Angeles\, CA\, 90095\, United States
CATEGORIES:ICNG Seminar
ATTACH;FMTTYPE=application/pdf:https://neurogen.semel.ucla.edu/wp-content/uploads/2025/12/2026-01-22_Giulio-Pergola_ICNG-Seminar_Flyer.pdf
ORGANIZER;CN="Center for Neurobehavioral Genetics":MAILTO:CNGT32@mednet.ucla.edu
END:VEVENT
END:VCALENDAR