BEGIN:VCALENDAR
VERSION:2.0
PRODID:-//UCLA Center for Neurobehavioral Genetics - ECPv6.6.2//NONSGML v1.0//EN
CALSCALE:GREGORIAN
METHOD:PUBLISH
X-ORIGINAL-URL:https://neurogen.semel.ucla.edu
X-WR-CALDESC:Events for UCLA Center for Neurobehavioral Genetics
REFRESH-INTERVAL;VALUE=DURATION:PT1H
X-Robots-Tag:noindex
X-PUBLISHED-TTL:PT1H
BEGIN:VTIMEZONE
TZID:UTC
BEGIN:STANDARD
TZOFFSETFROM:+0000
TZOFFSETTO:+0000
TZNAME:UTC
DTSTART:20250101T000000
END:STANDARD
END:VTIMEZONE
BEGIN:VEVENT
DTSTART;TZID=UTC:20251106T120000
DTEND;TZID=UTC:20251106T130000
DTSTAMP:20260422T185425
CREATED:20251023T233743Z
LAST-MODIFIED:20251023T233743Z
UID:6496-1762430400-1762434000@neurogen.semel.ucla.edu
SUMMARY:ICNG Seminar: "Prefrontal Circuit Mechanisms Underlying Depression and Its Treatment"
DESCRIPTION:Scott Wilke\, MD\, PhD\nAssistant Professor\nPenske Family Chair in Neuromodulation\nDepartment of Psychiatry & Biobehavioral Sciences\nUCLA David Geffen School of Medicine
URL:https://neurogen.semel.ucla.edu/event/icng-seminar-prefrontal-circuit-mechanisms-underlying-depression-and-its-treatment/
LOCATION:Gonda (Goldschmeid) Center\, Room 1357\, 695 Charles E Young Dr\, Los Angeles\, CA\, 90095\, United States
CATEGORIES:ICNG Seminar
ATTACH;FMTTYPE=application/pdf:https://neurogen.semel.ucla.edu/wp-content/uploads/2025/10/2025-11-06_Scott-Wilke_ICNG-Seminar_Flyer.pdf
ORGANIZER;CN="Center for Neurobehavioral Genetics":MAILTO:CNGT32@mednet.ucla.edu
END:VEVENT
BEGIN:VEVENT
DTSTART;TZID=UTC:20251120T120000
DTEND;TZID=UTC:20251120T130000
DTSTAMP:20260422T185425
CREATED:20251024T004438Z
LAST-MODIFIED:20260112T083535Z
UID:6499-1763640000-1763643600@neurogen.semel.ucla.edu
SUMMARY:ICNG Seminar: "Cognitive Genomics: A Cell Type-Specific Perspective"
DESCRIPTION:Genevieve Konopka\, PhD\nProfessor & Chair\nDepartment of Neurobiology\nUCLA David Geffen School of Medicine
URL:https://neurogen.semel.ucla.edu/event/icng-seminar-cognitive-genomics-a-cell-type-specific-perspective/
LOCATION:Gonda (Goldschmeid) Center\, Room 1357\, 695 Charles E Young Dr\, Los Angeles\, CA\, 90095\, United States
CATEGORIES:ICNG Seminar
ATTACH;FMTTYPE=application/pdf:https://neurogen.semel.ucla.edu/wp-content/uploads/2025/10/2025-11-20_Genevieve-Konopka_ICNG-Seminar_Flyer.pdf
ORGANIZER;CN="Center for Neurobehavioral Genetics":MAILTO:CNGT32@mednet.ucla.edu
END:VEVENT
END:VCALENDAR