BEGIN:VCALENDAR
VERSION:2.0
PRODID:-//UCLA Center for Neurobehavioral Genetics - ECPv6.6.2//NONSGML v1.0//EN
CALSCALE:GREGORIAN
METHOD:PUBLISH
X-WR-CALNAME:UCLA Center for Neurobehavioral Genetics
X-ORIGINAL-URL:https://neurogen.semel.ucla.edu
X-WR-CALDESC:Events for UCLA Center for Neurobehavioral Genetics
REFRESH-INTERVAL;VALUE=DURATION:PT1H
X-Robots-Tag:noindex
X-PUBLISHED-TTL:PT1H
BEGIN:VTIMEZONE
TZID:UTC
BEGIN:STANDARD
TZOFFSETFROM:+0000
TZOFFSETTO:+0000
TZNAME:UTC
DTSTART:20250101T000000
END:STANDARD
END:VTIMEZONE
BEGIN:VEVENT
DTSTART;TZID=UTC:20250501T120000
DTEND;TZID=UTC:20250501T130000
DTSTAMP:20260423T043640
CREATED:20250428T030547Z
LAST-MODIFIED:20250612T204443Z
UID:6344-1746100800-1746104400@neurogen.semel.ucla.edu
SUMMARY:ICNG Seminar: "Integration of estimated regional gene expression with neuroimaging and clinical phenotypes at biobank scale"
DESCRIPTION:Tony Capra\, PhD\nProfessor\nBakar Computational Health Sciences Institute\nUniversity of California\, San Francisco \n 
URL:https://neurogen.semel.ucla.edu/event/icng-seminar-integration-of-estimated-regional-gene-expression-with-neuroimaging-and-clinical-phenotypes-at-biobank-scale/
LOCATION:Gonda (Goldschmeid) Center\, Room 1357\, 695 Charles E Young Dr\, Los Angeles\, CA\, 90095\, United States
CATEGORIES:ICNG Seminar
ATTACH;FMTTYPE=application/pdf:https://neurogen.semel.ucla.edu/wp-content/uploads/2025/04/2025-05-01_Tony-Capra_ICNG-Seminar_Flyer_Export-to-PDF-1.pdf
ORGANIZER;CN="Center for Neurobehavioral Genetics":MAILTO:CNGT32@mednet.ucla.edu
END:VEVENT
BEGIN:VEVENT
DTSTART;TZID=UTC:20250515T120000
DTEND;TZID=UTC:20250515T130000
DTSTAMP:20260423T043640
CREATED:20250428T031457Z
LAST-MODIFIED:20250428T031457Z
UID:6347-1747310400-1747314000@neurogen.semel.ucla.edu
SUMMARY:ICNG Seminar: "The allelic architecture of rare variants in autism"
DESCRIPTION:Jack Fu\, PhD\nInstructor\nNeurology\nHarvard Medical School\nMassachusetts General Hospital
URL:https://neurogen.semel.ucla.edu/event/icng-seminar-the-allelic-architecture-of-rare-variants-in-autism/
LOCATION:Gonda (Goldschmeid) Center\, Room 1357\, 695 Charles E Young Dr\, Los Angeles\, CA\, 90095\, United States
CATEGORIES:ICNG Seminar
ATTACH;FMTTYPE=application/pdf:https://neurogen.semel.ucla.edu/wp-content/uploads/2025/04/2025-05-15_-Jack-Fu_Seminar_Flyer.pdf
ORGANIZER;CN="Center for Neurobehavioral Genetics":MAILTO:CNGT32@mednet.ucla.edu
END:VEVENT
END:VCALENDAR