BEGIN:VCALENDAR
VERSION:2.0
PRODID:-//UCLA Center for Neurobehavioral Genetics - ECPv6.6.2//NONSGML v1.0//EN
CALSCALE:GREGORIAN
METHOD:PUBLISH
X-ORIGINAL-URL:https://neurogen.semel.ucla.edu
X-WR-CALDESC:Events for UCLA Center for Neurobehavioral Genetics
REFRESH-INTERVAL;VALUE=DURATION:PT1H
X-Robots-Tag:noindex
X-PUBLISHED-TTL:PT1H
BEGIN:VTIMEZONE
TZID:UTC
BEGIN:STANDARD
TZOFFSETFROM:+0000
TZOFFSETTO:+0000
TZNAME:UTC
DTSTART:20240101T000000
END:STANDARD
END:VTIMEZONE
BEGIN:VEVENT
DTSTART;TZID=UTC:20241010T120000
DTEND;TZID=UTC:20241010T130000
DTSTAMP:20260425T051844
CREATED:20241216T192416Z
LAST-MODIFIED:20241223T222931Z
UID:6248-1728561600-1728565200@neurogen.semel.ucla.edu
SUMMARY:ICNG Seminar: "Organization and Function of Cortical Circuits Underlying Long Term Memory"
DESCRIPTION:Laura DeNardo\, PhD\nAssistant Professor\nDepartment of Physiology\nDavid Geffen School of Medicine
URL:https://neurogen.semel.ucla.edu/event/icng-seminar-organization-and-function-of-cortical-circuits-underlying-long-term-memory/
LOCATION:Gonda (Goldschmeid) Center\, Room 1357\, 695 Charles E Young Dr\, Los Angeles\, CA\, 90095\, United States
CATEGORIES:ICNG Seminar
ATTACH;FMTTYPE=image/png:https://neurogen.semel.ucla.edu/wp-content/uploads/2024/12/DeNardo-ICNG-Seminar_Flyer_Export-to-PDF.png
ORGANIZER;CN="Center for Neurobehavioral Genetics":MAILTO:CNGT32@mednet.ucla.edu
END:VEVENT
BEGIN:VEVENT
DTSTART;TZID=UTC:20241024T120000
DTEND;TZID=UTC:20241024T130000
DTSTAMP:20260425T051844
CREATED:20241223T195038Z
LAST-MODIFIED:20241223T223042Z
UID:6253-1729771200-1729774800@neurogen.semel.ucla.edu
SUMMARY:ICNG Seminar: "Towards an atlas of human vulnerability using cell villages"
DESCRIPTION:Michael Wells\, PhD\nAssistant Professor\nDepartment of Human Genetics\nDavid Geffen School of Medicine
URL:https://neurogen.semel.ucla.edu/event/icng-seminar-towards-an-atlas-of-human-vulnerability-using-cell-villages/
LOCATION:Gonda (Goldschmeid) Center\, Room 1357\, 695 Charles E Young Dr\, Los Angeles\, CA\, 90095\, United States
CATEGORIES:ICNG Seminar
ATTACH;FMTTYPE=image/png:https://neurogen.semel.ucla.edu/wp-content/uploads/2024/12/ICNG-Seminar_Flyer_Wells-10242024.png
ORGANIZER;CN="Center for Neurobehavioral Genetics":MAILTO:CNGT32@mednet.ucla.edu
END:VEVENT
END:VCALENDAR