BEGIN:VCALENDAR
VERSION:2.0
PRODID:-//UCLA Center for Neurobehavioral Genetics - ECPv6.6.2//NONSGML v1.0//EN
CALSCALE:GREGORIAN
METHOD:PUBLISH
X-WR-CALNAME:UCLA Center for Neurobehavioral Genetics
X-ORIGINAL-URL:https://neurogen.semel.ucla.edu
X-WR-CALDESC:Events for UCLA Center for Neurobehavioral Genetics
REFRESH-INTERVAL;VALUE=DURATION:PT1H
X-Robots-Tag:noindex
X-PUBLISHED-TTL:PT1H
BEGIN:VTIMEZONE
TZID:America/Los_Angeles
BEGIN:DAYLIGHT
TZOFFSETFROM:-0800
TZOFFSETTO:-0700
TZNAME:PDT
DTSTART:20220313T100000
END:DAYLIGHT
BEGIN:STANDARD
TZOFFSETFROM:-0700
TZOFFSETTO:-0800
TZNAME:PST
DTSTART:20221106T090000
END:STANDARD
TZID:UTC
BEGIN:STANDARD
TZOFFSETFROM:+0000
TZOFFSETTO:+0000
TZNAME:UTC
DTSTART:20220101T000000
END:STANDARD
END:VTIMEZONE
BEGIN:VEVENT
DTSTART;VALUE=DATE:20220118
DTEND;VALUE=DATE:20220319
DTSTAMP:20260420T042311
CREATED:20220118T204632Z
LAST-MODIFIED:20221027T184048Z
UID:4550-1642464000-1647647999@neurogen.semel.ucla.edu
SUMMARY:Call for 2022 Postdoc Applications
DESCRIPTION:The Training Program in Neurobehavioral Genetics\, directed by Drs. Roel Ophoff and Carrie Bearden\, is accepting applications for Postdoctoral Trainees. Earliest funding is expected to begin 5/1/2022. In keeping with the program’s goals\, preference will be given to applicants who are trained in psychiatry\, neurology\, or psychology\, although we also seek outstanding applicants with other backgrounds. Proposed projects must have relevance to neurobehavioral genetics. Please see 1st attachment for program details. A trainee’s appointment is contingent upon their mentor’s commitment to providing supplemental funding for Year 1 of the program and supplementary/full funding for Year 2. \nAPPLICATION DEADLINE: FRIDAY\, MARCH 18\, 2022\, 5 PM (PDT) \nVIEW APPLICATION REQUIREMENTS \n 
URL:https://neurogen.semel.ucla.edu/event/deadline-for-2022-postdoc-applications/
LOCATION:CA
CATEGORIES:Call for Training Grant Applications
END:VEVENT
BEGIN:VEVENT
DTSTART;TZID=UTC:20220301T170000
DTEND;TZID=UTC:20220301T180000
DTSTAMP:20260420T042311
CREATED:20211208T034606Z
LAST-MODIFIED:20220222T222739Z
UID:2954-1646154000-1646157600@neurogen.semel.ucla.edu
SUMMARY:NBG Journal Club: A comprehensive map of genetic relationships among diagnostic categories based on 48.6 million relative pairs from the Danish genealogy
DESCRIPTION:Discussion Topic: A comprehensive map of genetic relationships among diagnostic categories based on 48.6 million relative pairs from the Danish genealogy\nArticle Link: https://www.pnas.org/content/119/6/e2118688119\nZoom URL: Provided upon request from CNGT32@mednet.ucla.edu
URL:https://neurogen.semel.ucla.edu/event/nbg-journal-club-tbd-3/
LOCATION:Virtual (Zoom) : https://uclahs.zoom.us/j/2970582103
CATEGORIES:NBG Journal Club
ATTACH;FMTTYPE=image/png:https://neurogen.semel.ucla.edu/wp-content/uploads/2021/12/Feature-Image_Journal-Club.png
ORGANIZER;CN="Center for Neurobehavioral Genetics":MAILTO:CNGT32@mednet.ucla.edu
END:VEVENT
BEGIN:VEVENT
DTSTART;TZID=UTC:20220303T120000
DTEND;TZID=UTC:20220303T130000
DTSTAMP:20260420T042311
CREATED:20211208T040439Z
LAST-MODIFIED:20220302T003833Z
UID:2981-1646308800-1646312400@neurogen.semel.ucla.edu
SUMMARY:ICNG Seminar: "Neural mechanisms mediating social attachment in health and disease"
DESCRIPTION:Devanand S. Manoli\, MD\, PhD\nAssistant Professor\, Psychiatry\nWeill Institute for Neurosciences\nUCSF
URL:https://neurogen.semel.ucla.edu/event/icng-seminar-tbd-2/
LOCATION:Gonda (Goldschmeid) Center\, Room 1357\, 695 Charles E Young Dr\, Los Angeles\, CA\, 90095\, United States
CATEGORIES:ICNG Seminar
ATTACH;FMTTYPE=image/png:https://neurogen.semel.ucla.edu/wp-content/uploads/2021/08/Feature-Image_ICNG-Seminar.png
ORGANIZER;CN="Center for Neurobehavioral Genetics":MAILTO:CNGT32@mednet.ucla.edu
END:VEVENT
BEGIN:VEVENT
DTSTART;TZID=UTC:20220329T170000
DTEND;TZID=UTC:20220329T180000
DTSTAMP:20260420T042311
CREATED:20220329T160020Z
LAST-MODIFIED:20220415T163433Z
UID:4769-1648573200-1648576800@neurogen.semel.ucla.edu
SUMMARY:NBG Journal Club: Make war not love: The neural substrate underlying a state-dependent switch in female social behavior
DESCRIPTION:Discussion Topic: Make war not love: The neural substrate underlying a state-dependent switch in female social behavior\nArticle Link: https://www.sciencedirect.com/science/article/pii/S0896627321009958\nZoom URL: Provided upon request from CNGT32@mednet.ucla.edu
URL:https://neurogen.semel.ucla.edu/event/nbg-journal-club-overexpression-of-schizophrenia-susceptibility-factor-human-complement-c4a-promotes-excessive-synaptic-loss-and-behavioral-changes-in-mice/
LOCATION:Virtual (Zoom) : https://uclahs.zoom.us/j/2970582103
CATEGORIES:NBG Journal Club
ATTACH;FMTTYPE=image/png:https://neurogen.semel.ucla.edu/wp-content/uploads/2021/12/Feature-Image_Journal-Club.png
ORGANIZER;CN="Center for Neurobehavioral Genetics":MAILTO:CNGT32@mednet.ucla.edu
END:VEVENT
BEGIN:VEVENT
DTSTART;TZID=UTC:20220331T120000
DTEND;TZID=UTC:20220331T130000
DTSTAMP:20260420T042311
CREATED:20220302T003800Z
LAST-MODIFIED:20220415T161554Z
UID:2917-1648728000-1648731600@neurogen.semel.ucla.edu
SUMMARY:ICNG Seminar: "Lysosome regulationand lipid signaling in Alzheimer’s disease"
DESCRIPTION:Hui Zheng\, PhD\nProfessor & Huffington Foundation\nEndowed Chair in Aging\nDirector\, Huffington Center on Aging\nBaylor College of Medicine
URL:https://neurogen.semel.ucla.edu/event/icng-seminar-lysosome-regulationand-lipid-signaling-inalzheimers-disease/
LOCATION:Gonda (Goldschmeid) Center\, Room 1357\, 695 Charles E Young Dr\, Los Angeles\, CA\, 90095\, United States
CATEGORIES:ICNG Seminar
ATTACH;FMTTYPE=image/png:https://neurogen.semel.ucla.edu/wp-content/uploads/2021/08/Feature-Image_ICNG-Seminar.png
ORGANIZER;CN="Center for Neurobehavioral Genetics":MAILTO:CNGT32@mednet.ucla.edu
END:VEVENT
END:VCALENDAR