BEGIN:VCALENDAR
VERSION:2.0
PRODID:-//UCLA Center for Neurobehavioral Genetics - ECPv6.6.2//NONSGML v1.0//EN
CALSCALE:GREGORIAN
METHOD:PUBLISH
X-ORIGINAL-URL:https://neurogen.semel.ucla.edu
X-WR-CALDESC:Events for UCLA Center for Neurobehavioral Genetics
REFRESH-INTERVAL;VALUE=DURATION:PT1H
X-Robots-Tag:noindex
X-PUBLISHED-TTL:PT1H
BEGIN:VTIMEZONE
TZID:America/Los_Angeles
BEGIN:DAYLIGHT
TZOFFSETFROM:-0800
TZOFFSETTO:-0700
TZNAME:PDT
DTSTART:20220313T100000
END:DAYLIGHT
BEGIN:STANDARD
TZOFFSETFROM:-0700
TZOFFSETTO:-0800
TZNAME:PST
DTSTART:20221106T090000
END:STANDARD
TZID:UTC
BEGIN:STANDARD
TZOFFSETFROM:+0000
TZOFFSETTO:+0000
TZNAME:UTC
DTSTART:20220101T000000
END:STANDARD
END:VTIMEZONE
BEGIN:VEVENT
DTSTART;VALUE=DATE:20220118
DTEND;VALUE=DATE:20220319
DTSTAMP:20260420T062125
CREATED:20220118T204632Z
LAST-MODIFIED:20221027T184048Z
UID:4550-1642464000-1647647999@neurogen.semel.ucla.edu
SUMMARY:Call for 2022 Postdoc Applications
DESCRIPTION:The Training Program in Neurobehavioral Genetics\, directed by Drs. Roel Ophoff and Carrie Bearden\, is accepting applications for Postdoctoral Trainees. Earliest funding is expected to begin 5/1/2022. In keeping with the program’s goals\, preference will be given to applicants who are trained in psychiatry\, neurology\, or psychology\, although we also seek outstanding applicants with other backgrounds. Proposed projects must have relevance to neurobehavioral genetics. Please see 1st attachment for program details. A trainee’s appointment is contingent upon their mentor’s commitment to providing supplemental funding for Year 1 of the program and supplementary/full funding for Year 2. \nAPPLICATION DEADLINE: FRIDAY\, MARCH 18\, 2022\, 5 PM (PDT) \nVIEW APPLICATION REQUIREMENTS \n 
URL:https://neurogen.semel.ucla.edu/event/deadline-for-2022-postdoc-applications/
LOCATION:CA
CATEGORIES:Call for Training Grant Applications
END:VEVENT
BEGIN:VEVENT
DTSTART;TZID=UTC:20220201T170000
DTEND;TZID=UTC:20220201T180000
DTSTAMP:20260420T062125
CREATED:20211208T034515Z
LAST-MODIFIED:20220124T235459Z
UID:2951-1643734800-1643738400@neurogen.semel.ucla.edu
SUMMARY:NBG Journal Club: Coding of social novelty in the hippocampal CA2 region and its disruption and rescue in a 22q11.2 microdeletion mouse model
DESCRIPTION:Discussion Topic: Coding of social novelty in the hippocampal CA2 region and its disruption and rescue in a 22q11.2 microdeletion mouse model\nArticle Link: https://www.nature.com/articles/s41593-020-00720-5\nZoom URL: Provided upon request from CNGT32@mednet.ucla.edu
URL:https://neurogen.semel.ucla.edu/event/nbg-journal-club-tbd/
LOCATION:Virtual (Zoom) : https://uclahs.zoom.us/j/2970582103
CATEGORIES:NBG Journal Club
ATTACH;FMTTYPE=image/png:https://neurogen.semel.ucla.edu/wp-content/uploads/2021/12/Feature-Image_Journal-Club.png
ORGANIZER;CN="Center for Neurobehavioral Genetics":MAILTO:CNGT32@mednet.ucla.edu
END:VEVENT
BEGIN:VEVENT
DTSTART;TZID=UTC:20220203T120000
DTEND;TZID=UTC:20220203T130000
DTSTAMP:20260420T062125
CREATED:20211208T035526Z
LAST-MODIFIED:20211211T031000Z
UID:2970-1643889600-1643893200@neurogen.semel.ucla.edu
SUMMARY:ICNG Seminar: "Analysis of Genomic Copy Number Variation and Their Interaction With Polygenic Risk Scores Across Psychiatric Disorders"
DESCRIPTION:Marieke Klein\, PhD\nPostdoctoral Researcher\nDepartment of Psychiatry\nUCSD
URL:https://neurogen.semel.ucla.edu/event/icng-seminar-analysis-of-genomic-copy-number-variation-and-their-interaction-with-polygenic-risk-scores-across-psychiatric-disorders/
LOCATION:Gonda (Goldschmeid) Center\, Room 1357\, 695 Charles E Young Dr\, Los Angeles\, CA\, 90095\, United States
CATEGORIES:ICNG Seminar
ATTACH;FMTTYPE=image/png:https://neurogen.semel.ucla.edu/wp-content/uploads/2021/08/Feature-Image_ICNG-Seminar.png
ORGANIZER;CN="Center for Neurobehavioral Genetics":MAILTO:CNGT32@mednet.ucla.edu
END:VEVENT
BEGIN:VEVENT
DTSTART;TZID=UTC:20220215T170000
DTEND;TZID=UTC:20220215T180000
DTSTAMP:20260420T062125
CREATED:20211208T034546Z
LAST-MODIFIED:20220208T230439Z
UID:2953-1644944400-1644948000@neurogen.semel.ucla.edu
SUMMARY:NBG Journal Club: Demographic history mediates the effect of stratification on polygenic scores
DESCRIPTION:Discussion Topic: Demographic history mediates the effect of stratification on polygenic scores\nArticle Link: https://elifesciences.org/articles/61548\nZoom URL: Provided upon request from CNGT32@mednet.ucla.edu
URL:https://neurogen.semel.ucla.edu/event/nbg-journal-club-tbd-2/
LOCATION:Virtual (Zoom) : https://uclahs.zoom.us/j/2970582103
CATEGORIES:NBG Journal Club
ATTACH;FMTTYPE=image/png:https://neurogen.semel.ucla.edu/wp-content/uploads/2021/12/Feature-Image_Journal-Club.png
ORGANIZER;CN="Center for Neurobehavioral Genetics":MAILTO:CNGT32@mednet.ucla.edu
END:VEVENT
BEGIN:VEVENT
DTSTART;TZID=UTC:20220217T120000
DTEND;TZID=UTC:20220217T130000
DTSTAMP:20260420T062125
CREATED:20211208T035754Z
LAST-MODIFIED:20220222T222921Z
UID:2972-1645099200-1645102800@neurogen.semel.ucla.edu
SUMMARY:ICNG Seminar: "The ubiquity of pleiotropy in neuroimaging phenotypes"
DESCRIPTION:Chun Chieh Fan\, PhD\nAssistant Adjunct Professor\nRadiology\nUCSD
URL:https://neurogen.semel.ucla.edu/event/icng-seminar-analysis-of-genomic-copy-number-variation-and-their-interaction-with-polygenic-risk-scores-across-psychiatric-disorders-2/
LOCATION:Gonda (Goldschmeid) Center\, Room 1357\, 695 Charles E Young Dr\, Los Angeles\, CA\, 90095\, United States
CATEGORIES:ICNG Seminar
ATTACH;FMTTYPE=image/png:https://neurogen.semel.ucla.edu/wp-content/uploads/2021/08/Feature-Image_ICNG-Seminar.png
ORGANIZER;CN="Center for Neurobehavioral Genetics":MAILTO:CNGT32@mednet.ucla.edu
END:VEVENT
END:VCALENDAR