BEGIN:VCALENDAR
VERSION:2.0
PRODID:-//UCLA Center for Neurobehavioral Genetics - ECPv6.6.2//NONSGML v1.0//EN
CALSCALE:GREGORIAN
METHOD:PUBLISH
X-ORIGINAL-URL:https://neurogen.semel.ucla.edu
X-WR-CALDESC:Events for UCLA Center for Neurobehavioral Genetics
REFRESH-INTERVAL;VALUE=DURATION:PT1H
X-Robots-Tag:noindex
X-PUBLISHED-TTL:PT1H
BEGIN:VTIMEZONE
TZID:UTC
BEGIN:STANDARD
TZOFFSETFROM:+0000
TZOFFSETTO:+0000
TZNAME:UTC
DTSTART:20210101T000000
END:STANDARD
END:VTIMEZONE
BEGIN:VEVENT
DTSTART;TZID=UTC:20211102T170000
DTEND;TZID=UTC:20211102T180000
DTSTAMP:20260420T103337
CREATED:20211029T082829Z
LAST-MODIFIED:20220125T000459Z
UID:1873-1635872400-1635876000@neurogen.semel.ucla.edu
SUMMARY:NBG Journal Club: Spatially mapped single-cell chromatin accessibility
DESCRIPTION:Discussion Topic: Spatially mapped single-cell chromatin accessibility\nArticle Link: https://www.nature.com/articles/s41467-021-21515-7.pdf\nZoom URL: Provided upon request from CNGT32@mednet.ucla.edu
URL:https://neurogen.semel.ucla.edu/event/nbg-journal-club/
LOCATION:Virtual (Zoom) : https://uclahs.zoom.us/j/2970582103
CATEGORIES:NBG Journal Club
ATTACH;FMTTYPE=image/png:https://neurogen.semel.ucla.edu/wp-content/uploads/2021/12/Feature-Image_Journal-Club.png
ORGANIZER;CN="Center for Neurobehavioral Genetics":MAILTO:CNGT32@mednet.ucla.edu
END:VEVENT
BEGIN:VEVENT
DTSTART;TZID=UTC:20211104T120000
DTEND;TZID=UTC:20211104T130000
DTSTAMP:20260420T103337
CREATED:20210903T121905Z
LAST-MODIFIED:20211211T031120Z
UID:1133-1636027200-1636030800@neurogen.semel.ucla.edu
SUMMARY:ICNG Seminar: "Understanding Neural Stem Cell Fate Specification in the Developing Human Brain"
DESCRIPTION:Aparna Bhaduri\, PhD\nAssociate Professor\nDepartment of Biological Chemistry\nUCLA
URL:https://neurogen.semel.ucla.edu/event/icng-seminar-title-tbd-3/
LOCATION:Virtual (Zoom) : https://uclahs.zoom.us/j/2970582103
CATEGORIES:ICNG Seminar
ATTACH;FMTTYPE=image/png:https://neurogen.semel.ucla.edu/wp-content/uploads/2021/08/Feature-Image_ICNG-Seminar.png
ORGANIZER;CN="Center for Neurobehavioral Genetics":MAILTO:CNGT32@mednet.ucla.edu
END:VEVENT
BEGIN:VEVENT
DTSTART;TZID=UTC:20211116T170000
DTEND;TZID=UTC:20211116T180000
DTSTAMP:20260420T103337
CREATED:20211208T033640Z
LAST-MODIFIED:20220125T000449Z
UID:2942-1637082000-1637085600@neurogen.semel.ucla.edu
SUMMARY:NBG Journal Club: Early-life inflammation promotes depressive symptoms in adolescence via microglial engulfment of dendritic spines
DESCRIPTION:Discussion Topic: Early-life inflammation promotes depressive symptoms in adolescence via microglial engulfment of dendritic spines\nArticle Link: https://www.sciencedirect.com/science/article/pii/S089662732100427X?via%3Dihub\nZoom URL: Provided upon request from CNGT32@mednet.ucla.edu
URL:https://neurogen.semel.ucla.edu/event/nbg-journal-club-spatially-mapped-single-cell-chromatin-accessibility/
LOCATION:Virtual (Zoom) : https://uclahs.zoom.us/j/2970582103
CATEGORIES:NBG Journal Club
ATTACH;FMTTYPE=image/png:https://neurogen.semel.ucla.edu/wp-content/uploads/2021/12/Feature-Image_Journal-Club.png
ORGANIZER;CN="Center for Neurobehavioral Genetics":MAILTO:CNGT32@mednet.ucla.edu
END:VEVENT
BEGIN:VEVENT
DTSTART;TZID=UTC:20211118T120000
DTEND;TZID=UTC:20211118T130000
DTSTAMP:20260420T103337
CREATED:20211208T035237Z
LAST-MODIFIED:20211211T031135Z
UID:2966-1637236800-1637240400@neurogen.semel.ucla.edu
SUMMARY:ICNG Seminar: "Coordination of escape and spatial navigation circuits orchestrates versatile flight from threats"
DESCRIPTION:Avishek Adhikari\, Ph.D. \nAssistant Professor of Behavioral Neuroscience\nDepartment of Psychology\nUCLA
URL:https://neurogen.semel.ucla.edu/event/icng-seminar-coordination-of-escape-and-spatial-navigation-circuits-orchestrates-versatile-flight-from-threats/
LOCATION:Virtual (Zoom) : https://uclahs.zoom.us/j/2970582103
CATEGORIES:ICNG Seminar
ATTACH;FMTTYPE=image/png:https://neurogen.semel.ucla.edu/wp-content/uploads/2021/08/Feature-Image_ICNG-Seminar.png
ORGANIZER;CN="Center for Neurobehavioral Genetics":MAILTO:CNGT32@mednet.ucla.edu
END:VEVENT
END:VCALENDAR