BEGIN:VCALENDAR
VERSION:2.0
PRODID:-//UCLA Center for Neurobehavioral Genetics - ECPv6.6.2//NONSGML v1.0//EN
CALSCALE:GREGORIAN
METHOD:PUBLISH
X-WR-CALNAME:UCLA Center for Neurobehavioral Genetics
X-ORIGINAL-URL:https://neurogen.semel.ucla.edu
X-WR-CALDESC:Events for UCLA Center for Neurobehavioral Genetics
REFRESH-INTERVAL;VALUE=DURATION:PT1H
X-Robots-Tag:noindex
X-PUBLISHED-TTL:PT1H
BEGIN:VTIMEZONE
TZID:America/Los_Angeles
BEGIN:DAYLIGHT
TZOFFSETFROM:-0800
TZOFFSETTO:-0700
TZNAME:PDT
DTSTART:20230312T100000
END:DAYLIGHT
BEGIN:STANDARD
TZOFFSETFROM:-0700
TZOFFSETTO:-0800
TZNAME:PST
DTSTART:20231105T090000
END:STANDARD
BEGIN:DAYLIGHT
TZOFFSETFROM:-0800
TZOFFSETTO:-0700
TZNAME:PDT
DTSTART:20240310T100000
END:DAYLIGHT
BEGIN:STANDARD
TZOFFSETFROM:-0700
TZOFFSETTO:-0800
TZNAME:PST
DTSTART:20241103T090000
END:STANDARD
TZID:UTC
BEGIN:STANDARD
TZOFFSETFROM:+0000
TZOFFSETTO:+0000
TZNAME:UTC
DTSTART:20240101T000000
END:STANDARD
END:VTIMEZONE
BEGIN:VEVENT
DTSTART;VALUE=DATE:20231115
DTEND;VALUE=DATE:20240301
DTSTAMP:20260420T104338
CREATED:20231116T014158Z
LAST-MODIFIED:20231207T232833Z
UID:5969-1700006400-1709251199@neurogen.semel.ucla.edu
SUMMARY:Call for 2023-24 Postdoc Applications
DESCRIPTION:The Training Program in Neurobehavioral Genetics\, directed by Drs. Roel Ophoff and Carrie Bearden\, is now accepting applications for Postdoctoral Fellows. Applications will be accepted on a rolling basis until Thursday\, February 29\, 2024\, 5 PM (PT). Per NIH Grants Policy 11.3.2.6\, candidates must be U.S citizens or permanent residents of the U.S. Per UCLA Appointment Criteria and must not have exceeded 4 years of postdoctoral experience (at UCLA and at other institutions\, combined) at the time of application. \nAPPLICATION DEADLINE: THURSDAY\, FEBRUARY 29\, 2024\, 5 PM (PT) \nVIEW APPLICATION REQUIREMENTS \n 
URL:https://neurogen.semel.ucla.edu/event/call-for-2023-postdoc-applications/
LOCATION:CA
CATEGORIES:Call for Training Grant Applications
END:VEVENT
BEGIN:VEVENT
DTSTART;TZID=UTC:20240221T110000
DTEND;TZID=UTC:20240221T120000
DTSTAMP:20260420T104338
CREATED:20231212T224325Z
LAST-MODIFIED:20240209T011134Z
UID:6010-1708513200-1708516800@neurogen.semel.ucla.edu
SUMMARY:ICNG Seminar: "Autophagy and neurodegeneration"
DESCRIPTION:David C Rubinsztein MB ChB\, BSc(Hons)\, PhD\, FRCPath\, FMedSci\, FRS \nProfessor of Molecular Neurogenetics\nDeputy Director\, Cambridge Institute for Medical Research\nUK Dementia Research Institute Professor\nHonorary Consultant\, Department of Medical Genetics\nCambridge Institute for Medical Research
URL:https://neurogen.semel.ucla.edu/event/icng-seminar-autophagy-and-neurodegeneration/
LOCATION:Gonda (Goldschmeid) Center\, Room 1357\, 695 Charles E Young Dr\, Los Angeles\, CA\, 90095\, United States
CATEGORIES:ICNG Seminar
ATTACH;FMTTYPE=image/png:https://neurogen.semel.ucla.edu/wp-content/uploads/2021/08/Feature-Image_ICNG-Seminar.png
ORGANIZER;CN="Center for Neurobehavioral Genetics":MAILTO:CNGT32@mednet.ucla.edu
END:VEVENT
END:VCALENDAR