BEGIN:VCALENDAR
VERSION:2.0
PRODID:-//UCLA Center for Neurobehavioral Genetics - ECPv6.6.2//NONSGML v1.0//EN
CALSCALE:GREGORIAN
METHOD:PUBLISH
X-ORIGINAL-URL:https://neurogen.semel.ucla.edu
X-WR-CALDESC:Events for UCLA Center for Neurobehavioral Genetics
REFRESH-INTERVAL;VALUE=DURATION:PT1H
X-Robots-Tag:noindex
X-PUBLISHED-TTL:PT1H
BEGIN:VTIMEZONE
TZID:UTC
BEGIN:STANDARD
TZOFFSETFROM:+0000
TZOFFSETTO:+0000
TZNAME:UTC
DTSTART:20230101T000000
END:STANDARD
END:VTIMEZONE
BEGIN:VEVENT
DTSTART;TZID=UTC:20230207T170000
DTEND;TZID=UTC:20230207T180000
DTSTAMP:20260419T112349
CREATED:20230131T223741Z
LAST-MODIFIED:20230131T223741Z
UID:5669-1675789200-1675792800@neurogen.semel.ucla.edu
SUMMARY:NBG Journal Club: A biomarker-authenticated model of schizophrenia implicating NPTX2 loss of function
DESCRIPTION:Discussion Topic:A biomarker-authenticated model of schizophrenia implicating NPTX2 loss of function\nArticle Link: https://www.science.org/doi/10.1126/sciadv.abf6935\nZoom URL: Provided upon request from CNGT32@mednet.ucla.edu
URL:https://neurogen.semel.ucla.edu/event/nbg-journal-club-a-biomarker-authenticated-model-of-schizophrenia-implicating-nptx2-loss-of-function/
LOCATION:Virtual (Zoom) : https://uclahs.zoom.us/j/2970582103
CATEGORIES:NBG Journal Club
ATTACH;FMTTYPE=image/png:https://neurogen.semel.ucla.edu/wp-content/uploads/2021/12/Feature-Image_Journal-Club.png
ORGANIZER;CN="Center for Neurobehavioral Genetics":MAILTO:CNGT32@mednet.ucla.edu
END:VEVENT
END:VCALENDAR