BEGIN:VCALENDAR
VERSION:2.0
PRODID:-//UCLA Center for Neurobehavioral Genetics - ECPv6.6.2//NONSGML v1.0//EN
CALSCALE:GREGORIAN
METHOD:PUBLISH
X-ORIGINAL-URL:https://neurogen.semel.ucla.edu
X-WR-CALDESC:Events for UCLA Center for Neurobehavioral Genetics
REFRESH-INTERVAL;VALUE=DURATION:PT1H
X-Robots-Tag:noindex
X-PUBLISHED-TTL:PT1H
BEGIN:VTIMEZONE
TZID:UTC
BEGIN:STANDARD
TZOFFSETFROM:+0000
TZOFFSETTO:+0000
TZNAME:UTC
DTSTART:20220101T000000
END:STANDARD
END:VTIMEZONE
BEGIN:VEVENT
DTSTART;TZID=UTC:20221013T120000
DTEND;TZID=UTC:20221013T130000
DTSTAMP:20260419T172553
CREATED:20220914T165635Z
LAST-MODIFIED:20221006T183641Z
UID:5020-1665662400-1665666000@neurogen.semel.ucla.edu
SUMMARY:ICNG Seminar: "Elucidating the genetic architecture of the cortex and links to psychiatric disorders through genetically-informed brain atlases"
DESCRIPTION:Carolina Makowski\, PhD\n Postdoctoral Scholar\nDepartment of Radiology\nUCSD
URL:https://neurogen.semel.ucla.edu/event/icng-seminar-elucidating-the-genetic-architecture-of-the-cortex-and-links-to-psychiatric-disorders-through-genetically-informed-brain-atlases/
LOCATION:Gonda (Goldschmeid) Center\, Room 1357\, 695 Charles E Young Dr\, Los Angeles\, CA\, 90095\, United States
CATEGORIES:ICNG Seminar
ATTACH;FMTTYPE=image/png:https://neurogen.semel.ucla.edu/wp-content/uploads/2021/08/Feature-Image_ICNG-Seminar.png
ORGANIZER;CN="Center for Neurobehavioral Genetics":MAILTO:CNGT32@mednet.ucla.edu
END:VEVENT
END:VCALENDAR