BEGIN:VCALENDAR
VERSION:2.0
PRODID:-//UCLA Center for Neurobehavioral Genetics - ECPv6.6.2//NONSGML v1.0//EN
CALSCALE:GREGORIAN
METHOD:PUBLISH
X-ORIGINAL-URL:https://neurogen.semel.ucla.edu
X-WR-CALDESC:Events for UCLA Center for Neurobehavioral Genetics
REFRESH-INTERVAL;VALUE=DURATION:PT1H
X-Robots-Tag:noindex
X-PUBLISHED-TTL:PT1H
BEGIN:VTIMEZONE
TZID:UTC
BEGIN:STANDARD
TZOFFSETFROM:+0000
TZOFFSETTO:+0000
TZNAME:UTC
DTSTART:20220101T000000
END:STANDARD
END:VTIMEZONE
BEGIN:VEVENT
DTSTART;TZID=UTC:20220510T170000
DTEND;TZID=UTC:20220510T180000
DTSTAMP:20260420T024404
CREATED:20220415T173824Z
LAST-MODIFIED:20220507T213142Z
UID:4779-1652202000-1652205600@neurogen.semel.ucla.edu
SUMMARY:NBG Journal Club: Exome sequencing of individuals with Huntington’s disease implicates FAN1 nuclease activity in slowing CAG expansion and disease onset
DESCRIPTION:Discussion Topic: Exome sequencing of individuals with Huntington’s disease implicates FAN1 nuclease activity in slowing CAG expansion and disease onset\nArticle Link: https://www.nature.com/articles/s41593-022-01033-5\nZoom URL: Provided upon request from CNGT32@mednet.ucla.edu
URL:https://neurogen.semel.ucla.edu/event/nbg-journal-club-tbd-4/
LOCATION:Virtual (Zoom) : https://uclahs.zoom.us/j/2970582103
CATEGORIES:NBG Journal Club
ATTACH;FMTTYPE=image/png:https://neurogen.semel.ucla.edu/wp-content/uploads/2021/12/Feature-Image_Journal-Club.png
ORGANIZER;CN="Center for Neurobehavioral Genetics":MAILTO:CNGT32@mednet.ucla.edu
END:VEVENT
END:VCALENDAR